BEGIN:VCALENDAR
VERSION:2.0
PRODID:-//eventon.com NONSGML v1.0//EN
CALSCALE:GREGORIAN
METHOD:PUBLISH
BEGIN:VEVENT
UID:69ed5cd8cba23
DTSTAMP:20260426T003120Z
DTSTART:20260828
DTEND:20260829
LOCATION:Stavanger
SUMMARY:Stavanger på Skeivå 2025
DESCRIPTION:Velkommen til Stavanger på Skeivå 2026 28. AUGUST &#8211; 6. 
 SEPTEMBER I år feirer Stavanger på Skeivå kjærligheten\,  mangfoldet og
  likeverd for 26. gang! Hurra! Har du lyst til å være med på planlegging
 en? Kontakt leder@skeiva.no &nbsp;\nhttps://foreningenfri.no/events/skeiva-
 2025/
URL:https://foreningenfri.no/events/skeiva-2025/
END:VEVENT
END:VCALENDAR