BEGIN:VCALENDAR
VERSION:2.0
PRODID:-//eventon.com NONSGML v1.0//EN
CALSCALE:GREGORIAN
METHOD:PUBLISH
BEGIN:VEVENT
UID:69e8fc7840247
DTSTAMP:20260422T165104Z
DTSTART:20251008T160000Z
DTEND:20251008T183000Z
LOCATION:
SUMMARY:Kurs i queer tango med argentinske Mariano Garcés Grizy
DESCRIPTION:Åpent nivå\,  men du bør kunne litt tango på forhånd. Kom 
 gjerne 10 minutter før\,  så alle er klare og ute på gulvet når kurset 
 begynner. Mariano er vel kjent som dansepedagog og queer-tangolærer i Oslo
  og omland fra før. Han driver sin egen danseskole og har praksis som dans
 eterapeut[..]\nhttps://foreningenfri.no/events/kurs-i-queer-tango-med-argen
 tinske-mariano-garces-grizy-2/
URL:https://foreningenfri.no/events/kurs-i-queer-tango-med-argentinske-mariano-garces-grizy-2/
END:VEVENT
END:VCALENDAR