BEGIN:VCALENDAR
VERSION:2.0
PRODID:-//eventon.com NONSGML v1.0//EN
CALSCALE:GREGORIAN
METHOD:PUBLISH
BEGIN:VEVENT
UID:69e74b75e4555
DTSTAMP:20260421T100333Z
DTSTART:20250622T150000Z
DTEND:20250622T160000Z
LOCATION:Pride House - Oslo Pride Christiania Torv 5\,  0158 Oslo
SUMMARY:Ketil Slagstad - Regulering av kjønn i transmedisinens historie
DESCRIPTION:Hvordan har transmedisinens historie utviklet seg i Skandinavia
 ? Hvordan har kjønn og blitt forstått\,  konstruert og forhandlet i denne
  prosessen? hvordan skapes ekspertisen på feltet? Dette er blant noen av s
 pørsmålene som diskuteres i boka og som du kan få svar på når Slagstad
  gjester Legenes hus. Han kommer til[..]\nhttps://foreningenfri.no/events/k
 etil-slagstad-regulering-av-kjonn-i-transmedisinens-historie/
URL:https://foreningenfri.no/events/ketil-slagstad-regulering-av-kjonn-i-transmedisinens-historie/
END:VEVENT
END:VCALENDAR