BEGIN:VCALENDAR
VERSION:2.0
PRODID:-//eventon.com NONSGML v1.0//EN
CALSCALE:GREGORIAN
METHOD:PUBLISH
BEGIN:VEVENT
UID:69e4c0f8e65a8
DTSTAMP:20260419T114808Z
DTSTART:20250624T103000Z
DTEND:20250624T215900Z
LOCATION:Pride House - Oslo Pride Christiania Torv 5\,  0158 Oslo
SUMMARY:Helsetilbudet til transfolk - 10 år etter "Rett til rett kjønn - helse til alle kjønn"
DESCRIPTION:Helsetilbudet til transfolk &#8211; 10 år etter &#8220;Rett ti
 l rett kjønn &#8211; helse til alle kjønn&#8221; En samtale med helsemini
 ster Jan Christian Vestre Tirsdag 24. juni / 12:30 / Legenes hus (Eyr) I ra
 pporten «Rett til rett kjønn &#8211; helse til alle kjønn» (2015) kom e
 kspertgruppa nedsatt av Helsedirektoratet med[..]\nhttps://foreningenfri.no
 /events/helsetilbudet-til-transfolk-10-ar-etter-rett-til-rett-kjonn-helse-t
 il-alle-kjonn/
URL:https://foreningenfri.no/events/helsetilbudet-til-transfolk-10-ar-etter-rett-til-rett-kjonn-helse-til-alle-kjonn/
END:VEVENT
END:VCALENDAR