BEGIN:VCALENDAR
VERSION:2.0
PRODID:-//eventon.com NONSGML v1.0//EN
CALSCALE:GREGORIAN
METHOD:PUBLISH
BEGIN:VEVENT
UID:69e4e958dd1ae
DTSTAMP:20260419T144024Z
DTSTART:20250625T120000Z
DTEND:20250625T215900Z
LOCATION:Pride House - Oslo Pride Christiania Torv 5\,  0158 Oslo
SUMMARY:Hva skjer i USA\,  og hvordan kjemper vi mot det?
DESCRIPTION:“Dette er en utrenskning” var tittelen på en kronikk signe
 rt av Carline Tromp få dager etter innsettelsen av Trump. Hun pekte på hv
 ordan transpersoner og skeive ble eliminert fra offentlig liv. Rettigheter 
 har blitt fjernet ved et pennestrøk\,  statlige initiativer for mangfold b
 lir slettet\,  skeive og transfolk sparket fra jobbene[..]\nhttps://forenin
 genfri.no/events/hva-skjer-i-usa-og-hvordan-kjemper-vi-mot-det/
URL:https://foreningenfri.no/events/hva-skjer-i-usa-og-hvordan-kjemper-vi-mot-det/
END:VEVENT
END:VCALENDAR