BEGIN:VCALENDAR
VERSION:2.0
PRODID:-//eventon.com NONSGML v1.0//EN
CALSCALE:GREGORIAN
METHOD:PUBLISH
BEGIN:VEVENT
UID:69e4cc6ac59f4
DTSTAMP:20260419T123658Z
DTSTART:20251115T160000Z
DTEND:20251116T000000Z
LOCATION:
SUMMARY:Karmaklubb* x Black Box teater Foyer Party!
DESCRIPTION:Innmeldt arrangement: Welcome to a gathering celebrating this w
 eek’s  McKenzie Wark extravaganza as well as the shows at Black Box te
 ater: Wet Mess’ TESTO and p0rn0t0pia collective’s foXXY boXXY! DJs
 : DJ Brødskive (NOR) (from 17:00) and ALPHADIVA (NOR) (from sometime
  around 21:30) special guest MadMonkey (ESP) from p0rn0t0pia collective 
 crew playing live\,  as well as presence by Her Highnesses Ryona Crystal 
 (BRA) and Frida Marida (LEB). For sure flowers\,  ambience\,  warmth\, [
 ..]\nhttps://foreningenfri.no/events/karmaklubb-x-black-box-teater-foyer-pa
 rty/
URL:https://foreningenfri.no/events/karmaklubb-x-black-box-teater-foyer-party/
END:VEVENT
END:VCALENDAR