BEGIN:VCALENDAR
VERSION:2.0
PRODID:-//eventon.com NONSGML v1.0//EN
CALSCALE:GREGORIAN
METHOD:PUBLISH
BEGIN:VEVENT
UID:69ed5d20b9360
DTSTAMP:20260426T003232Z
DTSTART:20260821T150000Z
DTEND:20260823T150000Z
LOCATION:
SUMMARY:Friends\,  Fjord and Tango - 2026
DESCRIPTION:Friends\,  Fjord &amp; Tango is a celebration of freedom\,  con
 nection and dancing on your own terms. Open\,  creative\,  and proudly non-
 traditional—this is tango for the alternative community. If you love danc
 ing both roles with anyone\,  just being yourself\,  this is the place for 
 you. New friends guaranteed! We come together[..]\nhttps://foreningenfri.no
 /events/friends-fjord-and-tango/
URL:https://foreningenfri.no/events/friends-fjord-and-tango/
END:VEVENT
END:VCALENDAR