BEGIN:VCALENDAR
VERSION:2.0
PRODID:-//eventon.com NONSGML v1.0//EN
CALSCALE:GREGORIAN
METHOD:PUBLISH
BEGIN:VEVENT
UID:69ed5d7bbf60d
DTSTAMP:20260426T003403Z
DTSTART:20260924T160000Z
DTEND:20260924T215900Z
LOCATION:Pride-huset Storgata 41\,  Oslo
SUMMARY:HoDa Torsdagskaféen
DESCRIPTION:Homser i Dagslys (HoDa) møtes til Torsdagskaféen. Dette er en
  hyggelig sammenkomst for eldre homofile menn. Vi holder til i Pridehuset\,
   Storgata 41\,  inngang igjennom bar Agenda. \nhttps://foreningenfri.no/e
 vents/hoda-torsdagskafeen/
URL:https://foreningenfri.no/events/hoda-torsdagskafeen/
END:VEVENT
END:VCALENDAR