BEGIN:VCALENDAR
VERSION:2.0
PRODID:-//eventon.com NONSGML v1.0//EN
CALSCALE:GREGORIAN
METHOD:PUBLISH
BEGIN:VEVENT
UID:69e736df6092a
DTSTAMP:20260421T083543Z
DTSTART:20260429T160000Z
DTEND:20260429T190000Z
LOCATION:Emmaus (tidligere Q) Storgaten 52\,  3126 Tønsberg
SUMMARY:FRI-kafe - i Tønsberg
DESCRIPTION:Velkommen til FRI-kafe i Tønsberg. Frem til videre vil kafeen 
 være åpen på onsdager i partallsuker\,  i samme tidsrom som tidligere. 
 ️ I årevis har kafeen i Vestfold vært et trygt rom og sosial møtepla
 ss\,  og dette ønsker vi å fortsette med. Nå trenger vi frivillige som k
 an hjelpe med[..]\nhttps://foreningenfri.no/events/fri-kafe-i-tonsberg/var/
 ri-15.l-L1
URL:https://foreningenfri.no/events/fri-kafe-i-tonsberg/var/ri-15.l-L1
END:VEVENT
END:VCALENDAR