BEGIN:VCALENDAR
VERSION:2.0
PRODID:-//eventon.com NONSGML v1.0//EN
CALSCALE:GREGORIAN
METHOD:PUBLISH
BEGIN:VEVENT
UID:69eccb85b8da4
DTSTAMP:20260425T141117Z
DTSTART:20260127T120000Z
DTEND:20260127T140000Z
LOCATION:
SUMMARY:Senior regnbuetreff på St. Hanshaugen Seniorsenter
DESCRIPTION:Regnbuetreff er et sosialt og trygt møtested for skeive voksne
  og seniorer. Alle lesbiske\,  homofile\,  bifile\,  transpersoner\,  inter
 sex og skeive seniorer er hjertelig velkommen. Dagens tema er aldring og he
 lse. Inger Molvik fra Aldring og Helse vil innlede til dagens tema. &nbsp; 
 Støtt frivilligheten – hele året! Engasjer deg som[..]\nhttps://forenin
 genfri.no/events/senior-regnbuetreff-pa-st-hanshaugen-seniorsenter-4/
URL:https://foreningenfri.no/events/senior-regnbuetreff-pa-st-hanshaugen-seniorsenter-4/
END:VEVENT
END:VCALENDAR