BEGIN:VCALENDAR
VERSION:2.0
PRODID:-//eventon.com NONSGML v1.0//EN
CALSCALE:GREGORIAN
METHOD:PUBLISH
BEGIN:VEVENT
UID:69ed5df7dca1f
DTSTAMP:20260426T003607Z
DTSTART:20260507T123000Z
DTEND:20260507T160000Z
LOCATION:Manglerud gård nærmiljøsenter 60 pluss Byggveien 15
SUMMARY:Sommerfest for godt voksne skeive i Oslo
DESCRIPTION:Hjertelig velkommen til sommerfest på Manglerud gård nærmilj
 øsenter. Vi koser oss med god mat og godt drikke. Hjertelig velkommen til 
 alle skeive i Oslo. Blir det godt vær\,  så koser vi oss med sommerfest i
  hagen.  I samarbeid med bl.a. “Det sentrale eldreråd” inviterer Mang
 lerud gård nærmiljøsenter skeive eldre til[..]\nhttps://foreningenfri.no
 /events/sommerfest-for-godt-voksne-skeive-i-oslo/
URL:https://foreningenfri.no/events/sommerfest-for-godt-voksne-skeive-i-oslo/
END:VEVENT
END:VCALENDAR