BEGIN:VCALENDAR
VERSION:2.0
PRODID:-//eventon.com NONSGML v1.0//EN
CALSCALE:GREGORIAN
METHOD:PUBLISH
BEGIN:VEVENT
UID:69ed767d711c0
DTSTAMP:20260426T022045Z
DTSTART:20260304T180000Z
DTEND:20260304T225900Z
LOCATION:Pride-huset Storgata 41\,  Oslo
SUMMARY:Skeiv KunnskapsPub #12: Bi+ spaces: when\,  where and how are we bisexual?
DESCRIPTION:Onsdag\,  4. mars kl. 19:00 inviterer vi til den tolvte utgaven
  av Skeiv KunnskapsPub – denne gangen med Tyra Grasmo! «Når\,  hvor og 
 hvordan er vi bifile*? Hva vil det si å være bifil* i skeive rom? Hva inn
 ebærer det egentlig å være bifil*?» I dette foredraget vil Tyra Grasmo
  ta[..]\nhttps://foreningenfri.no/events/skeiv-kunnskapspub-12-bi-spaces-wh
 en-where-and-how-are-we-bisexual/
URL:https://foreningenfri.no/events/skeiv-kunnskapspub-12-bi-spaces-when-where-and-how-are-we-bisexual/
END:VEVENT
END:VCALENDAR