BEGIN:VCALENDAR
VERSION:2.0
PRODID:-//eventon.com NONSGML v1.0//EN
CALSCALE:GREGORIAN
METHOD:PUBLISH
BEGIN:VEVENT
UID:69e719ac738ff
DTSTAMP:20260421T063108Z
DTSTART:20260308T150000Z
DTEND:20260308T163000Z
LOCATION:
SUMMARY:Oslo - 8. mars
DESCRIPTION:Bli med! Hovedparolen i 8. mars-toget 2026 er &#8220;Si navnet 
 hennes &#8211; Tamima. Ingen flere liv tapt til muslimhat og rasisme&#8221;
 . Blant de øvrige hovedparolene er også SambAttac Oslos &#8220;Feminisme 
 mot fascisme – transkamp er kvinnekamp&#8220;. Denne parolen utgjør fell
 es blokk sammen med FRI Oslo og Vikens parole &#8220;Ingen er[..]\nhttps://
 foreningenfri.no/events/8-mars-arrangementet-i-oslo/
URL:https://foreningenfri.no/events/8-mars-arrangementet-i-oslo/
END:VEVENT
END:VCALENDAR