BEGIN:VCALENDAR
VERSION:2.0
PRODID:-//eventon.com NONSGML v1.0//EN
CALSCALE:GREGORIAN
METHOD:PUBLISH
BEGIN:VEVENT
UID:69ed5d008324c
DTSTAMP:20260426T003200Z
DTSTART:20260430T170000Z
DTEND:20260430T215900Z
LOCATION:Pride-huset Storgata 41\,  Oslo
SUMMARY:Skeiv KunnskapsPub #14: Hvorfor må vi bry oss om skeive i akademia og skeiv forskning?
DESCRIPTION:Torsdag\,  30. april kl. 19:00 inviterer vi til den fjortende u
 tgaven av Skeiv KunnskapsPub – denne gangen med Jon Martin Larsen og Jona
 s Åstrøm! Hvorfor må vi bry oss om skeive i akademia og skeiv forskning 
 nå? Hvordan er det å være skeiv i akademia\,  og hvilke erfaringer har f
 orskere[..]\nhttps://foreningenfri.no/events/skeiv-kunnskapspub-14-hvorfor-
 ma-vi-bry-oss-om-skeive-i-akademia-og-skeiv-forskning-med-jon-martin-larsen
 /
URL:https://foreningenfri.no/events/skeiv-kunnskapspub-14-hvorfor-ma-vi-bry-oss-om-skeive-i-akademia-og-skeiv-forskning-med-jon-martin-larsen/
END:VEVENT
END:VCALENDAR