BEGIN:VCALENDAR
VERSION:2.0
PRODID:-//eventon.com NONSGML v1.0//EN
CALSCALE:GREGORIAN
METHOD:PUBLISH
BEGIN:VEVENT
UID:69ed5cd64bb87
DTSTAMP:20260426T003118Z
DTSTART:20260620
DTEND:20260621
LOCATION:Sørumsand
SUMMARY:Sørumsand Pride 2026
DESCRIPTION:Velkommen til Sørumsand Pride! Vi samles i sentrum for parade\
 ,  aktiviteter og samhold. Hold av datoen 20. juni\,  og følg med på face
 book-siden vår for mer info!\nhttps://foreningenfri.no/events/sorumsand-pr
 ide/
URL:https://foreningenfri.no/events/sorumsand-pride/
END:VEVENT
END:VCALENDAR