BEGIN:VCALENDAR
VERSION:2.0
PRODID:-//eventon.com NONSGML v1.0//EN
CALSCALE:GREGORIAN
METHOD:PUBLISH
BEGIN:VEVENT
UID:69ed6fe7bbc1d
DTSTAMP:20260426T015239Z
DTSTART:20260428T110000Z
DTEND:20260428T123000Z
LOCATION:St. Hanshaugen seniorsenter Lovisenberggata 4E
SUMMARY:Senior Regnbuetreff på St. Hanshaugen seniorsenter
DESCRIPTION:Regnbuetreff er et sosialt og trygt møtested for skeive voksne
  og seniorer. Alle lesbiske\,  homofile\,  bifile\,  transpersoner\,  inter
 sex og skeive seniorer er hjertelig velkommen. Denne gang vil Jacob Evje fr
 a UIO innlede til en samtale rundt LHBT + og psykisk helse og mulige hindre
  som gjør at skeive ikke kontakter[..]\nhttps://foreningenfri.no/events/se
 nior-regnbuetreff-pa-st-hanshaugen-seniorsenter-28-april-2026/
URL:https://foreningenfri.no/events/senior-regnbuetreff-pa-st-hanshaugen-seniorsenter-28-april-2026/
END:VEVENT
END:VCALENDAR