BEGIN:VCALENDAR
VERSION:2.0
PRODID:-//eventon.com NONSGML v1.0//EN
CALSCALE:GREGORIAN
METHOD:PUBLISH
BEGIN:VEVENT
UID:69ed6f94278ab
DTSTAMP:20260426T015116Z
DTSTART:20260613T100000Z
DTEND:20260613T215900Z
LOCATION:
SUMMARY:Jæren Pride 2026
DESCRIPTION:Velkommen til Jæren Pride 2026 – en feiring av kjærlighet\,
   mangfold og samhold! Lørdag 13. juni inviterer vi til en inkluderende og
  fargerik Pride-markering på Jæren. Paraden starter kl. 12:00 fra Folgehu
 set på Haugabakka og går videre til Plogenparken. I parken blir det progr
 am med taler\,  musikk og aktiviteter for[..]\nhttps://foreningenfri.no/eve
 nts/jaeren-pride-2026/
URL:https://foreningenfri.no/events/jaeren-pride-2026/
END:VEVENT
END:VCALENDAR