BEGIN:VCALENDAR
VERSION:2.0
PRODID:-//eventon.com NONSGML v1.0//EN
CALSCALE:GREGORIAN
METHOD:PUBLISH
BEGIN:VEVENT
UID:69ed6faeedec4
DTSTAMP:20260426T015142Z
DTSTART:20260606T160000Z
DTEND:20260606T074800Z
LOCATION:
SUMMARY:Jessheim Pride 2026
DESCRIPTION:Jessheim Pride 2026 – Bli med på årets fargerikeste feiring
 ! Lørdag 6. juni 2026. Parade klokken 18:00 &#8211; og fest på Tunet Bar 
 og Bryggeri. Er du klar for en kveld fylt med kjærlighet\,  fellesskap og 
 fantastiske opplevelser? Jessheim Pride inviterer deg til en uforglemmelig 
 feiring – og DU vil[..]\nhttps://foreningenfri.no/events/jessheim-pride-2
 026/
URL:https://foreningenfri.no/events/jessheim-pride-2026/
END:VEVENT
END:VCALENDAR