BEGIN:VCALENDAR
VERSION:2.0
PRODID:-//eventon.com NONSGML v1.0//EN
CALSCALE:GREGORIAN
METHOD:PUBLISH
BEGIN:VEVENT
UID:69ed5ca7ed0f9
DTSTAMP:20260426T003031Z
DTSTART:20260501T080000Z
DTEND:20260501T215900Z
LOCATION:FRI - Mariboes gate 13 Mariboes gate 13\,  0183 Oslo
SUMMARY:1. mai med FRI og PKI - Frokost og tog i Oslo
DESCRIPTION:Kom og bli med oss 1. mai! ❤️🏳️‍⚧️✊ Hei venner
 ! Vi i FRI &amp; PKI gleder oss til å feire sammen under LO Oslos sterke
  transparole: &#8220;Arbeidsliv for alle – transrettigheter er menneskere
 ttigheter&#8221; 🌈 I fjor var vi en av de største blokkene – nå v
 il vi ha deg med! Ta med flagg\,  plakater og masse[..]\nhttps://foreninge
 nfri.no/events/1-mai-med-fri-og-pki-frokost-og-tog-i-oslo/
URL:https://foreningenfri.no/events/1-mai-med-fri-og-pki-frokost-og-tog-i-oslo/
END:VEVENT
END:VCALENDAR