BEGIN:VCALENDAR
VERSION:2.0
PRODID:-//eventon.com NONSGML v1.0//EN
CALSCALE:GREGORIAN
METHOD:PUBLISH
BEGIN:VEVENT
UID:69ed5cfabde21
DTSTAMP:20260426T003154Z
DTSTART:20260502T180000Z
DTEND:20260502T215900Z
LOCATION:SALT - Art &amp; Music Langkaia 1\,  0150 Oslo
SUMMARY:Bli med VisiBle på Drag Show 💃🏼
DESCRIPTION:Bli med gruppa VisiBle som inviterer til lørdagskveld på SALT
  med drag showet «Norway&#8217;s Next Drag Champion: All Stars Finale» Om
  showet: «Norways Next Drag Champion has taken the drag scene by storm\,  
 and this time\,  we&#8217;re bringing back some of our best performers! Our
  All Stars season is bigger\, [..]\nhttps://foreningenfri.no/events/bli-med
 -visible-pa-drag-show-%f0%9f%92%83%f0%9f%8f%bc/
URL:https://foreningenfri.no/events/bli-med-visible-pa-drag-show-%f0%9f%92%83%f0%9f%8f%bc/
END:VEVENT
END:VCALENDAR