BEGIN:VCALENDAR
VERSION:2.0
PRODID:-//eventon.com NONSGML v1.0//EN
CALSCALE:GREGORIAN
METHOD:PUBLISH
BEGIN:VEVENT
UID:69e6220da3644
DTSTAMP:20260420T125437Z
DTSTART:20260423T160000Z
DTEND:20260423T190000Z
LOCATION:
SUMMARY:"Kafé Don`t Tell Papa" - Porsgrunn
DESCRIPTION:FRI Vestfold og Telemark ønsker velkommen til åpent kafétref
 f på Kafé K. Velkommen til &#8220;Kafé Don`t Tell Papa&#8221;\,  som er 
 kafétreff-konseptet vårt i Grenland 🏳️‍🌈 Kafétreffet starter k
 l. 18. Vi holder av et bord\,  og inviterer til hyggelig samvær og prat. D
 et er muligheter for å kjøpe både mat og[..]\nhttps://foreningenfri.no/e
 vents/kafe-dont-tell-papa-porsgrunn/
URL:https://foreningenfri.no/events/kafe-dont-tell-papa-porsgrunn/
END:VEVENT
END:VCALENDAR