BEGIN:VCALENDAR
VERSION:2.0
PRODID:-//eventon.com NONSGML v1.0//EN
CALSCALE:GREGORIAN
METHOD:PUBLISH
BEGIN:VEVENT
UID:69e9f25dca660
DTSTAMP:20260423T102013Z
DTSTART:20260423T160000Z
DTEND:20260423T190000Z
LOCATION:
SUMMARY:FRI Kafé Porsgrunn
DESCRIPTION:FRI Vestfold og Telemark ønsker velkommen til åpent kafétref
 f på Kafé K. Velkommen til treffet som tidligere het &#8220;Kafé Don`t T
 ell Papa&#8221;. Kafétreffet starter kl. 18. Vi holder av et bord\,  og in
 viterer til hyggelig samvær og prat. Det er muligheter for å kjøpe både
  mat og drikke. Menyen på[..]\nhttps://foreningenfri.no/events/kafe-dont-t
 ell-papa-porsgrunn/
URL:https://foreningenfri.no/events/kafe-dont-tell-papa-porsgrunn/
END:VEVENT
END:VCALENDAR