BEGIN:VCALENDAR
VERSION:2.0
PRODID:-//eventon.com NONSGML v1.0//EN
CALSCALE:GREGORIAN
METHOD:PUBLISH
BEGIN:VEVENT
UID:69e6208ef0d0a
DTSTAMP:20260420T124814Z
DTSTART:20260423T160000Z
DTEND:20260423T215900Z
LOCATION:Kristiansand
SUMMARY:Åpent brev om minoritesstress – en samtale om hvordan vi styrker transpersoner og allierte
DESCRIPTION:Åpent brev om minoritesstress – en samtale om hvordan vi sty
 rker transpersoner og allierte FRI Agder\,  Foreldre til transungdom i Sør
  og SKAKK-Skeiv kultur i Kristiansand\,  inviterer til panelsamtale om mino
 ritetsstress. I følge Store Norske Leksikon forklarer teorien om minoritet
 sstress den forhøyede sykdomsbyrden blant minoritetsgrupper som en konsekv
 ens av stigma\, [..]\nhttps://foreningenfri.no/events/apent-brev-om-minorit
 esstress-agder-arr/
URL:https://foreningenfri.no/events/apent-brev-om-minoritesstress-agder-arr/
END:VEVENT
END:VCALENDAR