BEGIN:VCALENDAR
VERSION:2.0
PRODID:-//eventon.com NONSGML v1.0//EN
CALSCALE:GREGORIAN
METHOD:PUBLISH
BEGIN:VEVENT
UID:69e621235bc1c
DTSTAMP:20260420T125043Z
DTSTART:20260424
DTEND:20260425
LOCATION:
SUMMARY:Skeive damer i Innlandet
DESCRIPTION:Fredag 24. april er det samling i Storgata 9B på Lillehammer f
 or Nettverksgruppe for Skeive damer i Innlandet. Vi møtes for å snakke sa
 mmen og tar med litt til felles kveldsmat. Håper å se dere der! Se gruppe
  på facebook for mer info.\nhttps://foreningenfri.no/events/skeive-damer-i
 -innlandet/
URL:https://foreningenfri.no/events/skeive-damer-i-innlandet/
END:VEVENT
END:VCALENDAR