BEGIN:VCALENDAR
VERSION:2.0
PRODID:-//eventon.com NONSGML v1.0//EN
CALSCALE:GREGORIAN
METHOD:PUBLISH
BEGIN:VEVENT
UID:69ed75b31750e
DTSTAMP:20260426T021723Z
DTSTART:20260520T100000Z
DTEND:20260520T130000Z
LOCATION:
SUMMARY:Regnbuevenn: Sopp-tur til BygdÃ¸y
DESCRIPTION:Regnbuevenn tur er et nyoppstartet tilbud for skeive som Ã¸nske
 r Ã¥ vÃ¦re mer ute i naturen og mÃ¸te andre.Â  Alle Regnbuevenns tilbud har
  som felles mÃ¥l Ã¥ motvirke isolasjon og ensomhet blant lhbti personer og 
 personer som lever med hiv\,  gjennom Ã¥ skape positiv sosial kontakt.Â  VÃ
 ¥r fÃ¸rste tur gÃ¥r[..]\nhttps://foreningenfri.no/events/regnbuevenn-sopp-t
 ur-til-bydgoy/
URL:https://foreningenfri.no/events/regnbuevenn-sopp-tur-til-bydgoy/
END:VEVENT
END:VCALENDAR