BEGIN:VCALENDAR
VERSION:2.0
PRODID:-//eventon.com NONSGML v1.0//EN
CALSCALE:GREGORIAN
METHOD:PUBLISH
BEGIN:VEVENT
UID:69e75f7623a47
DTSTAMP:20260421T112854Z
DTSTART:20260603T150000Z
DTEND:20260603T173000Z
LOCATION:
SUMMARY:Queer tango practica for nye og erfarne dansere
DESCRIPTION:Kom til den triveligste practica i byen! Du trenger ikke partne
 r\,  alle danser med alle og vi følger og fører om hverandre. Pris ikke-m
 edlem: 50 Pris medlem: 50 eller det du for tiden synes du har råd til. Bet
 aling på Vipps til #938375 “Oslo Tango Queer”\,  skriv Practica. Vi se
 es[..]\nhttps://foreningenfri.no/events/queer-tango-practica-for-nye-og-erf
 arne-dansere/var/ri-4.l-L1
URL:https://foreningenfri.no/events/queer-tango-practica-for-nye-og-erfarne-dansere/var/ri-4.l-L1
END:VEVENT
END:VCALENDAR