BEGIN:VCALENDAR
VERSION:2.0
PRODID:-//eventon.com NONSGML v1.0//EN
CALSCALE:GREGORIAN
METHOD:PUBLISH
BEGIN:VEVENT
UID:69ea13996d340
DTSTAMP:20260423T124201Z
DTSTART:20260424T160000Z
DTEND:20260424T215900Z
LOCATION:TÃ¸nsberg
SUMMARY:FRI afterwork\,  Barrikaden
DESCRIPTION:FRI Vestfold og Telemark inviterer til afterwork pÃ¥ Barkaden i
  TÃ¸nsberg &#8211; fredag 24.04! Vi har booket bord fra 18:00 og utover ðŸ¤
 © PÃ¥ Barkaden er det ogsÃ¥ mulig Ã¥ bestille inn mat fra Peppes eller Big 
 Horn ðŸ˜Š Alle er velkommen til en inkluderende kveld med oss ðŸ˜Š Velkomme
 n[..]\nhttps://foreningenfri.no/events/fri-afterwork-barrikaden/
URL:https://foreningenfri.no/events/fri-afterwork-barrikaden/
END:VEVENT
END:VCALENDAR