BEGIN:VCALENDAR
VERSION:2.0
PRODID:-//eventon.com NONSGML v1.0//EN
CALSCALE:GREGORIAN
METHOD:PUBLISH
BEGIN:VEVENT
UID:69eb4388f2015
DTSTAMP:20260424T101848Z
DTSTART:20260424T160000Z
DTEND:20260424T215900Z
LOCATION:Stavanger
SUMMARY:Sapphics kveld - Stavanger
DESCRIPTION:Gruppa Stavanger Sapphics i FRI Rogaland invitere til bålkos p
 å Dyrsnes natursenter i flotte omgivelser ved Stokkavannet. Dyrsnes naturs
 enter: Her kan du gå tur\,  leie kano\,  låne grill eller slappe av i gre
 sset. Alle som identifiserer seg under sapphic-paraplyen er hjertelig velko
 mmen! Vi er trans-\,  ikke-binær-\,  bi- og pan- ++++[..]\nhttps://forenin
 genfri.no/events/sapphics-kveld-stavanger/
URL:https://foreningenfri.no/events/sapphics-kveld-stavanger/
END:VEVENT
END:VCALENDAR