BEGIN:VCALENDAR
VERSION:2.0
PRODID:-//eventon.com NONSGML v1.0//EN
CALSCALE:GREGORIAN
METHOD:PUBLISH
BEGIN:VEVENT
UID:69ed7682bf289
DTSTAMP:20260426T022050Z
DTSTART:20260506T150000Z
DTEND:20260506T173000Z
LOCATION:
SUMMARY:Queer tango kurs med Diego Denett
DESCRIPTION:Velkommen til kurskveld med Diego Denett! Denne kvelden starter
  vi med undervisning\,  og avslutter med practica\,  der Diego er til stede
  for veiledning.    Tango Lesson: El Ocho Cortado Join us for a focused a
 nd enjoyable tango session dedicated to one of the most essential and widel
 y used elements of[..]\nhttps://foreningenfri.no/events/queer-tango-kurs-me
 d-diego-denett/
URL:https://foreningenfri.no/events/queer-tango-kurs-med-diego-denett/
END:VEVENT
END:VCALENDAR