BEGIN:VCALENDAR
VERSION:2.0
PRODID:-//eventon.com NONSGML v1.0//EN
CALSCALE:GREGORIAN
METHOD:PUBLISH
BEGIN:VEVENT
UID:69ed5c93a940f
DTSTAMP:20260426T003011Z
DTSTART:20260613T130000Z
DTEND:20260614T100000Z
LOCATION:
SUMMARY:Queer Sauna Sessions • Pre-Pride Island Getaway
DESCRIPTION:Come join us for a Pre-Pride getaway to the beautiful and pictu
 resque island of Langøyene! Queer Sauna Sessions\,  Oslo Badstuforening &a
 mp; Karmaklubb* are hosting a free celebration\,  bringing our sauna-boat U
 lka out to the islands for a whole afternoon\,  evening (and morning!) of s
 auna\,  sun\,  fun\,  music\,  and warm company.[..]\nhttps://foreningenfri
 .no/events/queer-sauna-sessions-pre-pride-island-getaway/
URL:https://foreningenfri.no/events/queer-sauna-sessions-pre-pride-island-getaway/
END:VEVENT
END:VCALENDAR