BEGIN:VCALENDAR
VERSION:2.0
PRODID:-//eventon.com NONSGML v1.0//EN
CALSCALE:GREGORIAN
METHOD:PUBLISH
BEGIN:VEVENT
UID:69ed5d444070d
DTSTAMP:20260426T003308Z
DTSTART:20260527T150000Z
DTEND:20260527T215900Z
LOCATION:Ålesund Frivillighetssentral Kirkegata 33\, 
SUMMARY:Min reise fra mann til kvinne
DESCRIPTION:Kom og hør et ærlig foredrag om reisen fra mann til kvinne. D
 et blir åpnet for spørsmål etterpå. Arrangementet er gratis. Kaja\,  st
 yremedlem i FRI Møre og Romsdal\,  forteller. Onsdag 27. mai 2026 &#8211; 
 klokken 17:00. Sted: Ålesund frivillighetssentral. Adresse: Kirkegata 33\,
   6005 Ålesund Stå opp for retten til å[..]\nhttps://foreningenfri.no/ev
 ents/min-reise-fra-mann-til-kvinne/
URL:https://foreningenfri.no/events/min-reise-fra-mann-til-kvinne/
END:VEVENT
END:VCALENDAR