BEGIN:VCALENDAR
VERSION:2.0
PRODID:-//eventon.com NONSGML v1.0//EN
CALSCALE:GREGORIAN
METHOD:PUBLISH
BEGIN:VEVENT
UID:69ecb64002768
DTSTAMP:20260425T124032Z
DTSTART:20260425T140000Z
DTEND:20260425T210000Z
LOCATION:
SUMMARY:Sapphic Pride 2026 - Oslo
DESCRIPTION:Sapphic Pride is born out of Lesbian Visibility Day (celebrated
  annually on April 26)\,  but we’re throwing the doors wide open — beca
 use visibility is better when it’s shared✨ Event by: Sappho&#8217;s Fri
 ends &#8211; a community for queer women\,  non-binary and trans people. Ou
 r core values include accessibility\,  inclusion and[..]\nhttps://foreninge
 nfri.no/events/sapphic-pride-2026-oslo/
URL:https://foreningenfri.no/events/sapphic-pride-2026-oslo/
END:VEVENT
END:VCALENDAR