BEGIN:VCALENDAR
VERSION:2.0
PRODID:-//eventon.com NONSGML v1.0//EN
CALSCALE:GREGORIAN
METHOD:PUBLISH
BEGIN:VEVENT
UID:69ed70dab91f2
DTSTAMP:20260426T015642Z
DTSTART:20260527T163000Z
DTEND:20260527T215900Z
LOCATION:Ålesund Frivillighetssentral Kirkegata 33\, 
SUMMARY:Dance with pride // Kpop
DESCRIPTION:FRI Møre og Romsdal inviterer til kpop workshop onsdag 27. mai
  kl.18.30. Kpop dance roulette fra kl.19.30 Det er åpent for alle (fra 14 
 år og oppover). De som deltar på workshop skal få lære en dans. Dette e
 r for nybegynnere. Man trenger ikke tidligere dansekunnskap. Kpop dance rou
 lette kort[..]\nhttps://foreningenfri.no/events/dance-with-pride-kpop/
URL:https://foreningenfri.no/events/dance-with-pride-kpop/
END:VEVENT
END:VCALENDAR