BEGIN:VCALENDAR
VERSION:2.0
PRODID:-//eventon.com NONSGML v1.0//EN
CALSCALE:GREGORIAN
METHOD:PUBLISH
BEGIN:VEVENT
UID:69ed5cb3cc217
DTSTAMP:20260426T003043Z
DTSTART:20260528T170000Z
DTEND:20260528T215900Z
LOCATION:Terminalen Byscene Keiser Wilhelms gate 7
SUMMARY:FRI Møre og Romsdal presenterer Venus Equinox!
DESCRIPTION:FRI Møre og Romsdal presenterer Venus Equinox! Hun er en lokal
  drag queen fra Sula. Hun har erfaring fra mange scener tidligere. Nå komm
 er hun til Ålesund Pride med sitt eget show! Du kan forvente høye hæler\
 ,  fargerike kostymer\,  deilige beats og store mengder energi! Etter showe
 t blir det åpen[..]\nhttps://foreningenfri.no/events/fri-more-og-romsdal-p
 resenterer-venus-equinox/
URL:https://foreningenfri.no/events/fri-more-og-romsdal-presenterer-venus-equinox/
END:VEVENT
END:VCALENDAR