BEGIN:VCALENDAR
VERSION:2.0
PRODID:-//eventon.com NONSGML v1.0//EN
CALSCALE:GREGORIAN
METHOD:PUBLISH
BEGIN:VEVENT
UID:69ed70ea3a753
DTSTAMP:20260426T015658Z
DTSTART:20260525
DTEND:20260526
LOCATION:
SUMMARY:Ålesund Pride 2026
DESCRIPTION:Ålesund Pride 2026 arrangeres av Ålesund Sentrumsforening og 
 går av stabelen 25.-31. mai. Velkommen til en feiring av mangfold\,  kjær
 lighet og fellesskap. Gjennom en rekke arrangementer skapes det rom for bå
 de refleksjon\,  kunnskap og gode opplevelser. Ålesund Pride handler om sy
 nlighet\,  inkludering og retten til å være seg selv.\nhttps://foreningen
 fri.no/events/alesund-pride-2026/
URL:https://foreningenfri.no/events/alesund-pride-2026/
END:VEVENT
END:VCALENDAR